BEGIN:VCALENDAR
VERSION:2.0
PRODID:-//Tukios.com/
BEGIN:VEVENT
UID:202943f9-6c72-4846-8f7c-280cb504d93b@www.westminstercemetery.ca
DTSTAMP:20260423T203341Z
DTSTART:20260529T153000Z
DTEND:20260529T170000Z
SUMMARY:Visitation
DESCRIPTION:
URL:https://www.westminstercemetery.ca/obituaries/merle-noel
LOCATION: 5826 Bathurst St  Toronto ON M2R 1Y6
GEO:43.7790782;-79.4443206
END:VEVENT
END:VCALENDAR