BEGIN:VCALENDAR
VERSION:2.0
PRODID:-//Tukios.com/
BEGIN:VEVENT
UID:ad1b987d-e7eb-4525-8f16-f1606c5d0701@www.westminstercemetery.ca
DTSTAMP:20260423T203314Z
DTSTART:20260529T171500Z
DTEND:20260529T181500Z
SUMMARY:Funeral Service
DESCRIPTION:
URL:https://www.westminstercemetery.ca/obituaries/merle-noel
LOCATION: 5826 Bathurst St  Toronto ON M2R 1Y6
GEO:43.7790782;-79.4443206
END:VEVENT
END:VCALENDAR