BEGIN:VCALENDAR
VERSION:2.0
PRODID:-//Tukios.com/
BEGIN:VEVENT
UID:f7fc00c4-5932-486e-933c-719ad73f336c@www.westminstercemetery.ca
DTSTAMP:20260423T203320Z
DTSTART:20260529
SUMMARY:Burial
DESCRIPTION:
URL:https://www.westminstercemetery.ca/obituaries/merle-noel
LOCATION: 5830 Bathurst St  Toronto ON M2R 1Y6
GEO:43.7792775;-79.4446573
END:VEVENT
END:VCALENDAR